BEGIN:VCALENDAR
VERSION:2.0
PRODID:-//COLEGIO INTERNACIONAL SAINT GEORGE - ECPv5.7.0//NONSGML v1.0//EN
CALSCALE:GREGORIAN
METHOD:PUBLISH
X-WR-CALNAME:COLEGIO INTERNACIONAL SAINT GEORGE
X-ORIGINAL-URL:https://www.stgeorge.edu.pa
X-WR-CALDESC:Eventos para COLEGIO INTERNACIONAL SAINT GEORGE
BEGIN:VTIMEZONE
TZID:America/Panama
BEGIN:STANDARD
TZOFFSETFROM:-0500
TZOFFSETTO:-0500
TZNAME:EST
DTSTART:20210101T000000
END:STANDARD
END:VTIMEZONE
BEGIN:VEVENT
DTSTART;TZID=America/Panama:20211006T000000
DTEND;TZID=America/Panama:20211006T000000
DTSTAMP:20260421T092941
CREATED:20210603T165637Z
LAST-MODIFIED:20210603T165637Z
UID:9490-1633478400-1633478400@www.stgeorge.edu.pa
SUMMARY:Día Interamericano del Agua
DESCRIPTION:
URL:https://www.stgeorge.edu.pa/calendario/dia-interamericano-del-agua/
CATEGORIES:GENERAL
END:VEVENT
END:VCALENDAR