BEGIN:VCALENDAR
VERSION:2.0
PRODID:-//COLEGIO INTERNACIONAL SAINT GEORGE - ECPv5.7.0//NONSGML v1.0//EN
CALSCALE:GREGORIAN
METHOD:PUBLISH
X-WR-CALNAME:COLEGIO INTERNACIONAL SAINT GEORGE
X-ORIGINAL-URL:https://www.stgeorge.edu.pa
X-WR-CALDESC:Eventos para COLEGIO INTERNACIONAL SAINT GEORGE
BEGIN:VTIMEZONE
TZID:America/Panama
BEGIN:STANDARD
TZOFFSETFROM:-0500
TZOFFSETTO:-0500
TZNAME:EST
DTSTART:20210101T000000
END:STANDARD
END:VTIMEZONE
BEGIN:VEVENT
DTSTART;TZID=America/Panama:20210916T000000
DTEND;TZID=America/Panama:20210916T000000
DTSTAMP:20260421T093823
CREATED:20210603T165235Z
LAST-MODIFIED:20210603T165235Z
UID:9480-1631750400-1631750400@www.stgeorge.edu.pa
SUMMARY:Día Internacional de la Limpieza de Playas 	Día Internacional de la Preservación de la Capa de Ozono
DESCRIPTION:
URL:https://www.stgeorge.edu.pa/calendario/dia-internacional-de-la-limpieza-de-playas-dia-internacional-de-la-preservacion-de-la-capa-de-ozono/
CATEGORIES:GENERAL
END:VEVENT
END:VCALENDAR