BEGIN:VCALENDAR
VERSION:2.0
PRODID:-//COLEGIO INTERNACIONAL SAINT GEORGE - ECPv5.7.0//NONSGML v1.0//EN
CALSCALE:GREGORIAN
METHOD:PUBLISH
X-WR-CALNAME:COLEGIO INTERNACIONAL SAINT GEORGE
X-ORIGINAL-URL:https://www.stgeorge.edu.pa
X-WR-CALDESC:Eventos para COLEGIO INTERNACIONAL SAINT GEORGE
BEGIN:VTIMEZONE
TZID:America/Panama
BEGIN:STANDARD
TZOFFSETFROM:-0500
TZOFFSETTO:-0500
TZNAME:EST
DTSTART:20210101T000000
END:STANDARD
END:VTIMEZONE
BEGIN:VEVENT
DTSTART;TZID=America/Panama:20210727T000000
DTEND;TZID=America/Panama:20210727T000000
DTSTAMP:20260421T114859
CREATED:20210603T164749Z
LAST-MODIFIED:20210603T164749Z
UID:9466-1627344000-1627344000@www.stgeorge.edu.pa
SUMMARY:Fundación de la Escuela de Periodismo de la Universidad de Panamá
DESCRIPTION:
URL:https://www.stgeorge.edu.pa/calendario/fundacion-de-la-escuela-de-periodismo-de-la-universidad-de-panama/
CATEGORIES:GENERAL
END:VEVENT
END:VCALENDAR