BEGIN:VCALENDAR
VERSION:2.0
PRODID:-//COLEGIO INTERNACIONAL SAINT GEORGE - ECPv5.7.0//NONSGML v1.0//EN
CALSCALE:GREGORIAN
METHOD:PUBLISH
X-WR-CALNAME:COLEGIO INTERNACIONAL SAINT GEORGE
X-ORIGINAL-URL:https://www.stgeorge.edu.pa
X-WR-CALDESC:Eventos para COLEGIO INTERNACIONAL SAINT GEORGE
BEGIN:VTIMEZONE
TZID:America/Panama
BEGIN:STANDARD
TZOFFSETFROM:-0500
TZOFFSETTO:-0500
TZNAME:EST
DTSTART:20210101T000000
END:STANDARD
END:VTIMEZONE
BEGIN:VEVENT
DTSTART;TZID=America/Panama:20211008T000000
DTEND;TZID=America/Panama:20211008T000000
DTSTAMP:20260421T060626
CREATED:20210603T165637Z
LAST-MODIFIED:20210603T165637Z
UID:9491-1633651200-1633651200@www.stgeorge.edu.pa
SUMMARY:Día Mundial del Huevo
DESCRIPTION:
URL:https://www.stgeorge.edu.pa/calendario/dia-mundial-del-huevo/
CATEGORIES:GENERAL
END:VEVENT
BEGIN:VEVENT
DTSTART;TZID=America/Panama:20211006T000000
DTEND;TZID=America/Panama:20211006T000000
DTSTAMP:20260421T060626
CREATED:20210603T165637Z
LAST-MODIFIED:20210603T165637Z
UID:9490-1633478400-1633478400@www.stgeorge.edu.pa
SUMMARY:Día Interamericano del Agua
DESCRIPTION:
URL:https://www.stgeorge.edu.pa/calendario/dia-interamericano-del-agua/
CATEGORIES:GENERAL
END:VEVENT
BEGIN:VEVENT
DTSTART;TZID=America/Panama:20211005T000000
DTEND;TZID=America/Panama:20211005T000000
DTSTAMP:20260421T060626
CREATED:20210603T165637Z
LAST-MODIFIED:20210603T165637Z
UID:9489-1633392000-1633392000@www.stgeorge.edu.pa
SUMMARY:Día Mundial de los Docentes 	Se celebra llegada de Cristóbal Colón a Tierra de la Provincia de Bocas del Toro
DESCRIPTION:
URL:https://www.stgeorge.edu.pa/calendario/dia-mundial-de-los-docentes-se-celebra-llegada-de-cristobal-colon-a-tierra-de-la-provincia-de-bocas-del-toro/
CATEGORIES:GENERAL
END:VEVENT
BEGIN:VEVENT
DTSTART;TZID=America/Panama:20211004T000000
DTEND;TZID=America/Panama:20211004T000000
DTSTAMP:20260421T060626
CREATED:20210603T165436Z
LAST-MODIFIED:20210603T165436Z
UID:9488-1633305600-1633305600@www.stgeorge.edu.pa
SUMMARY:Día de los animales
DESCRIPTION:
URL:https://www.stgeorge.edu.pa/calendario/dia-de-los-animales/
CATEGORIES:GENERAL
END:VEVENT
BEGIN:VEVENT
DTSTART;TZID=America/Panama:20211002T000000
DTEND;TZID=America/Panama:20211002T000000
DTSTAMP:20260421T060626
CREATED:20210603T165436Z
LAST-MODIFIED:20210603T165436Z
UID:9487-1633132800-1633132800@www.stgeorge.edu.pa
SUMMARY:Día internacional de no violencia
DESCRIPTION:
URL:https://www.stgeorge.edu.pa/calendario/dia-internacional-de-no-violencia/
CATEGORIES:GENERAL
END:VEVENT
BEGIN:VEVENT
DTSTART;TZID=America/Panama:20211001T000000
DTEND;TZID=America/Panama:20211001T000000
DTSTAMP:20260421T060626
CREATED:20210603T165436Z
LAST-MODIFIED:20210603T165436Z
UID:9486-1633046400-1633046400@www.stgeorge.edu.pa
SUMMARY:Día internacional de la música 	Día Internacional de los Adultos Mayores 	Día internacional del Agua 	Día Mundial del Hábit
DESCRIPTION:
URL:https://www.stgeorge.edu.pa/calendario/dia-internacional-de-la-musica-dia-internacional-de-los-adultos-mayores-dia-internacional-del-agua-dia-mundial-del-habit/
CATEGORIES:GENERAL
END:VEVENT
BEGIN:VEVENT
DTSTART;TZID=America/Panama:20210930T000000
DTEND;TZID=America/Panama:20210930T000000
DTSTAMP:20260421T060626
CREATED:20210603T165436Z
LAST-MODIFIED:20210603T165436Z
UID:9485-1632960000-1632960000@www.stgeorge.edu.pa
SUMMARY:Día Internacional del Traductor
DESCRIPTION:
URL:https://www.stgeorge.edu.pa/calendario/dia-internacional-del-traductor/
CATEGORIES:GENERAL
END:VEVENT
BEGIN:VEVENT
DTSTART;TZID=America/Panama:20210929T000000
DTEND;TZID=America/Panama:20210929T000000
DTSTAMP:20260421T060626
CREATED:20210603T165436Z
LAST-MODIFIED:20210603T165436Z
UID:9484-1632873600-1632873600@www.stgeorge.edu.pa
SUMMARY:Día Mundial de los Mares 	Día Mundial del Corazón
DESCRIPTION:
URL:https://www.stgeorge.edu.pa/calendario/dia-mundial-de-los-mares-dia-mundial-del-corazon/
CATEGORIES:GENERAL
END:VEVENT
BEGIN:VEVENT
DTSTART;TZID=America/Panama:20210927T000000
DTEND;TZID=America/Panama:20210927T000000
DTSTAMP:20260421T060626
CREATED:20210603T165235Z
LAST-MODIFIED:20210603T165235Z
UID:9483-1632700800-1632700800@www.stgeorge.edu.pa
SUMMARY:Día Internacional del Turismo 	Día Marítimo Mundial
DESCRIPTION:
URL:https://www.stgeorge.edu.pa/calendario/dia-internacional-del-turismo-dia-maritimo-mundial/
CATEGORIES:GENERAL
END:VEVENT
BEGIN:VEVENT
DTSTART;TZID=America/Panama:20210926T000000
DTEND;TZID=America/Panama:20210926T000000
DTSTAMP:20260421T060626
CREATED:20210603T165235Z
LAST-MODIFIED:20210603T165235Z
UID:9482-1632614400-1632614400@www.stgeorge.edu.pa
SUMMARY:Día Mundial de Prevención del embarazo en adolescentes
DESCRIPTION:
URL:https://www.stgeorge.edu.pa/calendario/dia-mundial-de-prevencion-del-embarazo-en-adolescentes/
CATEGORIES:GENERAL
END:VEVENT
BEGIN:VEVENT
DTSTART;TZID=America/Panama:20210921T000000
DTEND;TZID=America/Panama:20210921T000000
DTSTAMP:20260421T060626
CREATED:20210603T165235Z
LAST-MODIFIED:20210603T165235Z
UID:9481-1632182400-1632182400@www.stgeorge.edu.pa
SUMMARY:Día del Alzheimer 	Día Internacional de la Paz
DESCRIPTION:
URL:https://www.stgeorge.edu.pa/calendario/dia-del-alzheimer-dia-internacional-de-la-paz/
CATEGORIES:GENERAL
END:VEVENT
BEGIN:VEVENT
DTSTART;TZID=America/Panama:20210916T000000
DTEND;TZID=America/Panama:20210916T000000
DTSTAMP:20260421T060626
CREATED:20210603T165235Z
LAST-MODIFIED:20210603T165235Z
UID:9480-1631750400-1631750400@www.stgeorge.edu.pa
SUMMARY:Día Internacional de la Limpieza de Playas 	Día Internacional de la Preservación de la Capa de Ozono
DESCRIPTION:
URL:https://www.stgeorge.edu.pa/calendario/dia-internacional-de-la-limpieza-de-playas-dia-internacional-de-la-preservacion-de-la-capa-de-ozono/
CATEGORIES:GENERAL
END:VEVENT
BEGIN:VEVENT
DTSTART;TZID=America/Panama:20210915T000000
DTEND;TZID=America/Panama:20210915T000000
DTSTAMP:20260421T060626
CREATED:20210603T165235Z
LAST-MODIFIED:20210603T165235Z
UID:9479-1631664000-1631664000@www.stgeorge.edu.pa
SUMMARY:Día internacional de la democracia 	Independencia de Centroamérica
DESCRIPTION:
URL:https://www.stgeorge.edu.pa/calendario/dia-internacional-de-la-democracia-independencia-de-centroamerica/
CATEGORIES:GENERAL
END:VEVENT
BEGIN:VEVENT
DTSTART;TZID=America/Panama:20210909T000000
DTEND;TZID=America/Panama:20210909T000000
DTSTAMP:20260421T060626
CREATED:20210603T165036Z
LAST-MODIFIED:20210603T165036Z
UID:9478-1631145600-1631145600@www.stgeorge.edu.pa
SUMMARY:Aniversario del Patronato del Museo del Canal
DESCRIPTION:
URL:https://www.stgeorge.edu.pa/calendario/aniversario-del-patronato-del-museo-del-canal/
CATEGORIES:GENERAL
END:VEVENT
BEGIN:VEVENT
DTSTART;TZID=America/Panama:20210908T000000
DTEND;TZID=America/Panama:20210908T000000
DTSTAMP:20260421T060626
CREATED:20210603T165036Z
LAST-MODIFIED:20210603T165036Z
UID:9477-1631059200-1631059200@www.stgeorge.edu.pa
SUMMARY:Día de la Alfabetización 	Día internacional del periodista
DESCRIPTION:
URL:https://www.stgeorge.edu.pa/calendario/dia-de-la-alfabetizacion-dia-internacional-del-periodista/
CATEGORIES:GENERAL
END:VEVENT
BEGIN:VEVENT
DTSTART;TZID=America/Panama:20210831T000000
DTEND;TZID=America/Panama:20210831T000000
DTSTAMP:20260421T060626
CREATED:20210603T165036Z
LAST-MODIFIED:20210603T165036Z
UID:9476-1630368000-1630368000@www.stgeorge.edu.pa
SUMMARY:Día internacional de la solidaridad
DESCRIPTION:
URL:https://www.stgeorge.edu.pa/calendario/dia-internacional-de-la-solidaridad/
CATEGORIES:GENERAL
END:VEVENT
BEGIN:VEVENT
DTSTART;TZID=America/Panama:20210829T000000
DTEND;TZID=America/Panama:20210829T000000
DTSTAMP:20260421T060626
CREATED:20210603T165036Z
LAST-MODIFIED:20210603T165036Z
UID:9475-1630195200-1630195200@www.stgeorge.edu.pa
SUMMARY:Día de la Reforestación
DESCRIPTION:
URL:https://www.stgeorge.edu.pa/calendario/dia-de-la-reforestacion/
CATEGORIES:GENERAL
END:VEVENT
BEGIN:VEVENT
DTSTART;TZID=America/Panama:20210822T000000
DTEND;TZID=America/Panama:20210822T000000
DTSTAMP:20260421T060626
CREATED:20210603T165036Z
LAST-MODIFIED:20210603T165036Z
UID:9474-1629590400-1629590400@www.stgeorge.edu.pa
SUMMARY:Día Mundial del Folclor
DESCRIPTION:
URL:https://www.stgeorge.edu.pa/calendario/dia-mundial-del-folclor/
CATEGORIES:GENERAL
END:VEVENT
BEGIN:VEVENT
DTSTART;TZID=America/Panama:20210819T000000
DTEND;TZID=America/Panama:20210819T000000
DTSTAMP:20260421T060626
CREATED:20210603T164951Z
LAST-MODIFIED:20210603T164951Z
UID:9473-1629331200-1629331200@www.stgeorge.edu.pa
SUMMARY:Día mundial de la fotografía
DESCRIPTION:
URL:https://www.stgeorge.edu.pa/calendario/dia-mundial-de-la-fotografia/
CATEGORIES:GENERAL
END:VEVENT
BEGIN:VEVENT
DTSTART;TZID=America/Panama:20210812T000000
DTEND;TZID=America/Panama:20210812T000000
DTSTAMP:20260421T060626
CREATED:20210603T164951Z
LAST-MODIFIED:20210603T164951Z
UID:9472-1628726400-1628726400@www.stgeorge.edu.pa
SUMMARY:Día Internacional de la Juventud
DESCRIPTION:
URL:https://www.stgeorge.edu.pa/calendario/dia-internacional-de-la-juventud/
CATEGORIES:GENERAL
END:VEVENT
BEGIN:VEVENT
DTSTART;TZID=America/Panama:20210809T000000
DTEND;TZID=America/Panama:20210809T000000
DTSTAMP:20260421T060626
CREATED:20210603T164951Z
LAST-MODIFIED:20210603T164951Z
UID:9471-1628467200-1628467200@www.stgeorge.edu.pa
SUMMARY:Día del Abogado 	Día Internacional de la Poblaciones Indígenas
DESCRIPTION:
URL:https://www.stgeorge.edu.pa/calendario/dia-del-abogado-dia-internacional-de-la-poblaciones-indigenas/
CATEGORIES:GENERAL
END:VEVENT
BEGIN:VEVENT
DTSTART;TZID=America/Panama:20210806T000000
DTEND;TZID=America/Panama:20210806T000000
DTSTAMP:20260421T060626
CREATED:20210603T164951Z
LAST-MODIFIED:20210603T164951Z
UID:9470-1628208000-1628208000@www.stgeorge.edu.pa
SUMMARY:Día del Químico
DESCRIPTION:
URL:https://www.stgeorge.edu.pa/calendario/dia-del-quimico/
CATEGORIES:GENERAL
END:VEVENT
BEGIN:VEVENT
DTSTART;TZID=America/Panama:20210801T000000
DTEND;TZID=America/Panama:20210801T000000
DTSTAMP:20260421T060626
CREATED:20210603T164951Z
LAST-MODIFIED:20210603T164951Z
UID:9469-1627776000-1627776000@www.stgeorge.edu.pa
SUMMARY:Aniversario del Ministerio de Desarrollo Social (MIDES)
DESCRIPTION:
URL:https://www.stgeorge.edu.pa/calendario/aniversario-del-ministerio-de-desarrollo-social-mides/
CATEGORIES:GENERAL
END:VEVENT
BEGIN:VEVENT
DTSTART;TZID=America/Panama:20210730T000000
DTEND;TZID=America/Panama:20210730T000000
DTSTAMP:20260421T060626
CREATED:20210603T164750Z
LAST-MODIFIED:20210603T164750Z
UID:9468-1627603200-1627603200@www.stgeorge.edu.pa
SUMMARY:Día internacional de la Amistad
DESCRIPTION:
URL:https://www.stgeorge.edu.pa/calendario/dia-internacional-de-la-amistad/
CATEGORIES:GENERAL
END:VEVENT
BEGIN:VEVENT
DTSTART;TZID=America/Panama:20210728T000000
DTEND;TZID=America/Panama:20210728T000000
DTSTAMP:20260421T060626
CREATED:20210603T164749Z
LAST-MODIFIED:20210603T164749Z
UID:9467-1627430400-1627430400@www.stgeorge.edu.pa
SUMMARY:Día Mundial contra la Hepatitis
DESCRIPTION:
URL:https://www.stgeorge.edu.pa/calendario/dia-mundial-contra-la-hepatitis/
CATEGORIES:GENERAL
END:VEVENT
BEGIN:VEVENT
DTSTART;TZID=America/Panama:20210727T000000
DTEND;TZID=America/Panama:20210727T000000
DTSTAMP:20260421T060626
CREATED:20210603T164749Z
LAST-MODIFIED:20210603T164749Z
UID:9466-1627344000-1627344000@www.stgeorge.edu.pa
SUMMARY:Fundación de la Escuela de Periodismo de la Universidad de Panamá
DESCRIPTION:
URL:https://www.stgeorge.edu.pa/calendario/fundacion-de-la-escuela-de-periodismo-de-la-universidad-de-panama/
CATEGORIES:GENERAL
END:VEVENT
BEGIN:VEVENT
DTSTART;TZID=America/Panama:20210726T000000
DTEND;TZID=America/Panama:20210726T000000
DTSTAMP:20260421T060626
CREATED:20210603T164749Z
LAST-MODIFIED:20210603T164749Z
UID:9465-1627257600-1627257600@www.stgeorge.edu.pa
SUMMARY:Día Internacional de la Defensa del Ecosistema Manglar
DESCRIPTION:
URL:https://www.stgeorge.edu.pa/calendario/dia-internacional-de-la-defensa-del-ecosistema-manglar/
CATEGORIES:GENERAL
END:VEVENT
BEGIN:VEVENT
DTSTART;TZID=America/Panama:20210722T000000
DTEND;TZID=America/Panama:20210722T000000
DTSTAMP:20260421T060626
CREATED:20210603T164749Z
LAST-MODIFIED:20210603T164749Z
UID:9464-1626912000-1626912000@www.stgeorge.edu.pa
SUMMARY:Festival Nacional de la Pollera\, Las Tablas\, Provincia de Los Santos
DESCRIPTION:
URL:https://www.stgeorge.edu.pa/calendario/festival-nacional-de-la-pollera-las-tablas-provincia-de-los-santos/
CATEGORIES:GENERAL
END:VEVENT
BEGIN:VEVENT
DTSTART;TZID=America/Panama:20210717T000000
DTEND;TZID=America/Panama:20210717T000000
DTSTAMP:20260421T060626
CREATED:20210603T164208Z
LAST-MODIFIED:20210603T164208Z
UID:9463-1626480000-1626480000@www.stgeorge.edu.pa
SUMMARY:Día del Niño y la Niña (Ley Nº 56 de 15 de diciembre de 2004)
DESCRIPTION:
URL:https://www.stgeorge.edu.pa/calendario/dia-del-nino-y-la-nina-ley-no-56-de-15-de-diciembre-de-2004/
CATEGORIES:GENERAL
END:VEVENT
BEGIN:VEVENT
DTSTART;TZID=America/Panama:20210715T000000
DTEND;TZID=America/Panama:20210715T000000
DTSTAMP:20260421T060626
CREATED:20210603T164208Z
LAST-MODIFIED:20210603T164208Z
UID:9462-1626307200-1626307200@www.stgeorge.edu.pa
SUMMARY:Día Mundial de las Habilidades de la Juventud
DESCRIPTION:
URL:https://www.stgeorge.edu.pa/calendario/dia-mundial-de-las-habilidades-de-la-juventud/
CATEGORIES:GENERAL
END:VEVENT
END:VCALENDAR